BEGIN:VCALENDAR
VERSION:2.0
PRODID:-//Tukios.com/
BEGIN:VEVENT
UID:d60cc3aa-988d-4907-b35b-84b92cb44972@www.cournoyerfh.com
DTSTAMP:20260424T000513Z
DTSTART:20260502T140000Z
DTEND:20260502T143000Z
SUMMARY:Graveside Service
DESCRIPTION:
URL:https://www.cournoyerfh.com/obituaries/anna-b-wall
LOCATION: Hillcrest Road  Jaffrey NH 03452
GEO:42.813382;-72.0101157
END:VEVENT
END:VCALENDAR