BEGIN:VCALENDAR
VERSION:2.0
PRODID:-//Tukios.com/
BEGIN:VEVENT
UID:9952ce96-5290-4145-b799-989420ff08ca@www.cournoyerfh.com
DTSTAMP:20260424T000337Z
DTSTART:20260502T143000Z
DTEND:20260502T163000Z
SUMMARY:Celebration of Life
DESCRIPTION:
URL:https://www.cournoyerfh.com/obituaries/anna-b-wall
LOCATION:Cournoyer Funeral Home 33 River Street  Jaffrey NH 03452
GEO:42.8130704;-72.0253893
END:VEVENT
END:VCALENDAR