BEGIN:VCALENDAR
VERSION:2.0
PRODID:-//Tukios.com/
BEGIN:VEVENT
UID:f450d95e-4eb9-4e92-b75f-80f6f35ff6d2@www.cournoyerfh.com
DTSTAMP:20260421T043853Z
DTSTART:20260502T150000Z
DTEND:20260502T160000Z
SUMMARY:Memorial Service
DESCRIPTION:
URL:https://www.cournoyerfh.com/obituaries/linda-giragosian
LOCATION: 14 Laban Ainsworth Way  Jaffrey NH 03452
GEO:42.828381;-72.0559133
END:VEVENT
END:VCALENDAR